Workbook
Name \0051: #N/A
Name \0061: #N/A
Name \0061a: #N/A
Name \0062a: #N/A
Name \0062b: #N/A
Name \0062c: #N/A
Name \0063: #N/A
Name \0063a: #N/A
Name \0064: #N/A
Name \0081: #N/A
Name \0082: #N/A
Name \010: #N/A
Name \4001a: #N/A
Name \4001b: #N/A
Name \4002a: #N/A
Name \4002b: #N/A
Name \4003a: #N/A
Name \4003b: #N/A
Name \4004: #N/A
Name \4005: #N/A
Name \4006: #N/A
Name \4007: #N/A
Name \4013: #N/A
Name \4041: #N/A
Name \4042: #N/A
Name \4043: #N/A
Name \4044: #N/A
Name \4051: #N/A
Name \4052: #N/A
Name \4053: #N/A
Name \4054: #N/A
Name \4055: #N/A
Name \4056: #N/A
Name \4057: #N/A
Name \4061: #N/A
Name \4062: #N/A
Name \4063: #N/A
Name \4064: #N/A
Name \4065: #N/A
Name \4066: #N/A
Name \4071: #N/A
Name \4072: #N/A
Name \4073: #N/A
Name \4074: #N/A
Name \4075: #N/A
Name \4076: #N/A
Name \5001: #N/A
Name \50010a: #N/A
Name \50010b: #N/A
Name \50011a: #N/A
Name \50011b: #N/A
Name \50011c: #N/A
Name \5002: #N/A
Name \5003a: #N/A
Name \5003b: #N/A
Name \5004a: #N/A
Name \5004b: #N/A
Name \5004c: #N/A
Name \5004d: #N/A
Name \5004e: #N/A

Sheet SGV

Sheet CHI
A2: DỰ TOÁN CHI NGÂN SÁCH NHÀ NƯỚC CẤP XÃ NĂM 2026
A3: (Ban hành kèm theo Quyết định số /QĐ-UBND ngày tháng năm 2026) | F3: s
B4: ĐVT: Nghìn đồng
A5: TT | B5: Nội dung | C5: Tổng cộng | D5: Ghi chú
A6: I | B6: Chi thuộc nhiệm vụ của NS cấp xã theo phân cấp | C6: =C7+C10+C155 -> 176913750
A7: 1 | B7: Chi đầu tư phát triển, trong đó | C7: =C8+C9 -> 11452000
A8: - | B8: Nguồn sử dụng đất | C8: 1275000 | D8: Chi tiết theo kế hoạch ĐTC
A9: - | B9: Nguồn chi thường xuyên bổ sung Ngân sách cấp trên | C9: 10177000
A10: 2 | B10: Chi thường xuyên | C10: =C12+C67+C74+C82+C84+C87+C101+C105+C118+C145+C146 -> 162338750
B11: Trong đó:
A12: 2.1 | B12: Chi quản lý hành chính nhà nước, Đảng, đoàn thể | C12: =C13+C38+C60 -> 38089245
A13: 2.1.1 | B13: Quản lý Đảng | C13: =SUM(C14:C37)-C22-C23-C24 -> 11500751
A14: - | B14: Văn phòng Đảng ủy (Gồm chi trả cấp thôn theo NQ111) | C14: 7602556
A15: - | B15: Kinh phí tiền thưởng theo NĐ 73 | C15: 235395
A16: - | B16: Phụ cấp BCH Đảng ủy | C16: 252720
A17: - | B17: KP tặng thưởng kèm theo Huy hiệu Đảng (bao gồm cả tiền khung, thiếp 70.000 đồng/HHĐ) | C17: 434000
A18: - | B18: Kinh phí QĐ 99 cơ quan Đảng | C18: 20000
A19: - | B19: Kinh phí QĐ 99 hỗ trợ 20 chi bộ cơ sở | C19: 40000 | D19: Mỗi chi bộ 2 triệu
A20: - | B20: Hỗ trợ công tác Đảng ở Thôn | C20: 90000 | D20: Mỗi thôn 3 triệu
A21: - | B21: KP hoạt động cấp ủy theo quy định 44/QĐ-TU gồm: | C21: =SUM(C22:C24) -> 108000
A22: + | B22: Văn phòng | C22: 40000
A23: + | B23: Ban xây dựng Đảng | C23: 40000
A24: + | B24: UBKT | C24: 28000
A25: - | B25: Phụ cấp cán bộ ủy ban kiểm tra cấp xã (0,2) | C25: 28080
A26: - | B26: Hỗ trợ kinh phí chăm sóc, khám sức khỏe | C26: 70000
A27: - | B27: Kinh phí ban công tác 35 | C27: 210000
A28: - | B28: Kinh phí hoạt động chung Thường trực, đột xuất | C28: 300000
A29: - | B29: Kinh phí hỗ trợ đặc thù CNTT | C29: 30000
A30: - | B30: Kinh phí tiếp công dân, đối thoại | C30: 20000
A31: - | B31: Kinh phí thăm hỏi, thăm viếng của Ban thường vụ cho các đối tượng thuộc diện BTV Tỉnh uỷ, BTV Đảng ủy quản lý; và các đối tượng khác; tặng quà cho cán bộ nghỉ hưu; Kinh phí chế độ chính sách cho các Đảng viên có hoàn cảnh khó khăn, đảng viên từ 60 tuổi đảng trở lên | C31: 70000
A32: - | B32: Kinh phí 8 tổ công tác chỉ đạo cơ sở (Trong đó 4 Tổ công tác chỉ đạo Quang Tho; Thọ Điền 20 triệu/tổ; 4 Tổ công tác chỉ đạo Thị trấn; Hương Minh 15 triệu/tổ) | C32: 140000
A33: - | B33: Kinh phí Chúc mừng các ngày truyền thống, ngày thành lập các ban (UBKT, Ban đảng, VP Đảng ủy, MTTQ, 4 đoàn thể...) | C33: 40000
... A37: - | B37: Hoạt động Ban xây dựng Đảng | C37: 300000
A38: 2.1.2 | B38: Văn phòng HĐND-UBND xã | C38: =SUM(C39:C59)-C40-C41-C42 -> 20429331
A39: - | B39: Hội đồng nhân dân bao gồm: | C39: 1281000
A40: + | B40: Phụ cấp đại biểu hội đồng | C40: 741000
A41: + | B41: Kinh phí hoạt động của HĐND cấp xã theo Nghị quyết số 82/2017/NQ-HĐND của HĐND tỉnh | C41: 440000
A42: + | B42: Kinh phí hoạt động thường xuyên | C42: 100000
A43: - | B43: Văn phòng UBND xã (Gồm Kinh phí tổ ANTT; chi trả cấp thôn theo NQ111..) | C43: 15251161
A44: - | B44: Lương Hợp đồng cơ quan | C44: 250000
...

Sheet can doi
A2: CÂN ĐỐI NGÂN SÁCH XÃ NĂM 2026
A3: =CHI!A3 -> (Ban hành kèm theo Quyết định số /QĐ-UBND ngày tháng năm 2026)
B4: ĐVT: Nghìn đồng
A5: TT | B5: Nội dung | C5: DT năm 2026 | D5: Ghi chú
A6: A | B6: Ngân sách cấp xã | C6: =C7+C10 -> 176913750
A7: I | B7: Thu ngân sách xã hưởng theo phân cấp | C7: =THU!G8 -> 5230750
A8: - | B8: Các khoản thu NS cấp xã hưởng 100% | C8: =THU!G13+THU!G16+THU!G18+THU!G19 -> 610000
A9: - | B9: Các khoản thu phân chia NS cấp xã hưởng theo tỷ lệ | C9: =C7-C8 -> 4620750
A10: II | B10: Thu từ ngân sách cấp trên | C10: =C11+C12 -> 171683000
A11: - | B11: Bổ sung cân đối | C11: =THU!C23 -> 141947000
A12: - | B12: Bổ sung có mục tiêu | C12: =THU!C24 -> 29736000
A13: III | B13: Thu kết dư ngân sách năm trước
A14: IV | B14: Thu chuyển nguồn năm trước
A15: B | B15: Tổng chi ngân sách xã | C15: =C16 -> 176913750
A16: I | B16: Tổng chi cân đối ngân sách xã | C16: =C17+C18+C19 -> 176913750
A17: 1 | B17: Chi đầu tư phát triển | C17: =THU!G12 -> 1275000
A18: 2 | B18: Chi thường xuyên | C18: 172515750
A19: 3 | B19: Dự phòng ngân sách | C19: =CHI!C155 -> 3123000
C20: ỦY BAN NHÂN DÂN XÃ

Sheet THU
A1: PHÂN BỔ DỰ TOÁN THU NGÂN SÁCH XÃ NĂM 2026
A2: =CHI!A3 -> (Ban hành kèm theo Quyết định số /QĐ-UBND ngày tháng năm 2026)
D3: Đơn vị tính: 1.000 đồng
A4: TT | B4: KHOẢN THU | C4: Dự toán tỉnh giao năm 2026 | D4: Kế hoạch Hội đồng nhân dân xã giao năm 2026 | E4: Phân chia hưởng cấp ngân sách | H4: Ghi chú
E6: Trung ương | F6: Tỉnh | G6: Xã
B7: TỔNG THU NGÂN SÁCH NHÀ NƯỚC | C7: =C8+C20+C21+C22 -> 184673000 | D7: =D8+D20+D21+D22 -> 184673000 | E7: =E8+E20+E21+E22 -> 1438500 | F7: =F8+F20+F21+F22 -> 6320750 | G7: =G8+G20+G21+G22 -> 176913750
A8: I | B8: Thu ngân sách trên địa bàn | C8: =SUM(C9:C19) -> 12990000 | D8: =SUM(D9:D19) -> 12990000 | E8: =SUM(E9:E19) -> 1438500 | F8: =SUM(F9:F19) -> 6320750 | G8: =SUM(G9:G19) -> 5230750
A9: 1 | B9: Thu Quốc doanh | C9: 0 | D9: 0
A10: 2 | B10: Thu từ khu vực kinh tế ngoài Quốc doanh | C10: 2460000 | D10: 2460000 | F10: =D10/2 -> 1230000 | G10: =C10-F10 -> 1230000
A11: 3 | B11: Thuế Thu nhập cá nhân | C11: 850000 | D11: 850000 | F11: =D11/2 -> 425000 | G11: =F11 -> 425000
A12: 4 | B12: Tiền thu sử dụng đất | C12: 5000000 | D12: 5000000 | E12: 750000 | F12: =D12-E12-G12 -> 2975000 | G12: 1275000
A13: 5 | B13: Phí, lệ phí | C13: 350000 | D13: 350000 | G13: =D13 -> 350000
A14: 6 | B14: Lệ phí trước bạ | C14: 3000000 | D14: 3000000 | F14: =D14/2 -> 1500000 | G14: =F14 -> 1500000
A15: 7 | B15: Thu tiền cho thuê đất, thuê mặt nước | C15: 110000 | D15: 110000 | E15: 16500 | F15: =(C15-E15)/2 -> 46750 | G15: =F15 -> 46750
A16: 8 | B16: Thuế sử dụng đất phi nông nghiệp | C16: 100000 | D16: 100000 | G16: 100000
A17: 9 | B17: Thu tiền cấp quyền khai thác tài nguyên khoáng sản, tài nguyên nước, khu vực biển | C17: 960000 | D17: 960000 | E17: =C17*70% -> 672000 | F17: =(C17-E17)/2 -> 144000 | G17: =F17 -> 144000
A18: 10 | B18: Thu khác ngân sách | C18: 150000 | D18: 150000 | G18: 150000
A19: 12 | B19: Thu từ quỹ đất công ích và thu hoa lợi công sản khác | C19: 10000 | D19: 10000 | G19: 10000
A20: II | B20: Thu chuyển nguồn
A21: III | B21: Thu kết dư ngân sách năm trước
A22: IV | B22: Thu bổ sung từ cân đối ngân sách cấp trên | C22: =C23+C24 -> 171683000 | D22: =D23+D24 -> 171683000 | G22: =G23+G24 -> 171683000
A23: 1 | B23: Bổ sung cân đối ngân sách | C23: 141947000 | D23: =C23 -> 141947000 | G23: =D23 -> 141947000
A24: 2 | B24: Bổ sung có mục tiêu | C24: 29736000 | D24: 29736000 | G24: =D24 -> 29736000
E26: ỦY BAN NHÂN DÂN XÃ

Sheet GIAO DUC
A1: ỦY BAN NHÂN DÂN
A2: XÃ VŨ QUANG | C2: TỔNG HỢP NHU CẦU KINH PHÍ SỰ NGHIỆP GIÁO DỤC ĐƯA VÀO DỰ TOÁN NĂM 2026
A4: =CHI!A3 -> (Ban hành kèm theo Quyết định số /QĐ-UBND ngày tháng năm 2026)
J5: ĐVT: 1.000 đồng
A6: STT | B6: NỘI DUNG | C6: Tổng hợp dự toán chi | D6: Chi Lương, Hoạt động, Tiền thưởng | G6: Chính sách cho học sinh bao gồm: | K6: Phụ cấp thể dục | L6: KP giáo viên dạy khuyết tật | M6: Ghi chú
G7: Tiền ăn trưa của trẻ em 3,4,5 tuổi | H7: Chính sách theo NĐ 238/2025/NĐ-CP | J7: Hỗ trợ học sinh khuyết tật theo TTLT số 42
D8: Lương, phụ cấp và các khoản đóng góp | E8: Chi hoạt động QLGD | F8: Tiền thưởng theo quy định tại NĐ 73/2024/NĐ-CP | H8: Cấp bù học phí | I8: Hỗ trợ CPHT
A9: I | B9: Khối mầm non | C9: =SUM(C10:C15) -> 19791790 | D9: =SUM(D10:D15) -> 14849000 | E9: =SUM(E10:E15) -> 3264000 | F9: =SUM(F10:F15) -> 782140 | G9: =SUM(G10:G15) -> 230000 | H9: =SUM(H10:H15) -> 289350 | I9: =SUM(I10:I15) -> 126900 | J9: =SUM(J10:J15) -> 71400 | ... L9: =SUM(L10:L15) -> 179000
A10: 1 | B10: MN Hương Thọ | C10: =SUM(D10:L10) -> 4006500 | D10: 2974000 | E10: 700000 | F10: 160000 | G10: 35000 | H10: 54000 | I10: 25650 | J10: 17850 | L10: 40000
A11: 2 | B11: MN Hương Minh | C11: =SUM(D11:L11) -> 3641750 | D11: 2796000 | E11: 550000 | F11: 147000 | G11: 35000 | H11: 47250 | I11: 25650 | J11: 17850 | L11: 23000
A12: 3 | B12: MN Thị Trấn | C12: =SUM(D12:L12) -> 5139600 | D12: 3875000 | E12: 814000 | F12: 204000 | G12: 60000 | H12: 96750 | I12: 27000 | J12: 17850 | L12: 45000
A13: 4 | B13: MN Hương Điền | C13: =SUM(D13:L13) -> 1215690 | D13: 898000 | E13: 200000 | F13: 46140 | G13: 20000 | H13: 9900 | I13: 10800 | J13: 17850 | L13: 13000
A14: 5 | B14: MN Hương Quang | C14: =SUM(D14:L14) -> 1864800 | D14: 1429000 | E14: 300000 | F14: 74000 | G14: 20000 | H14: 19350 | I14: 9450 | J14: ='[16]10. Hỗ trợ khuyet tat'!T16 -> 0 | L14: 13000
A15: 6 | B15: MN Sơn Thọ | C15: =SUM(D15:L15) -> 3923450 | D15: 2877000 | E15: 700000 | F15: 151000 | G15: 60000 | H15: 62100 | I15: 28350 | J15: ='[16]10. Hỗ trợ khuyet tat'!T17 -> 0 | L15: 45000
B16: Khối tiểu học | C16: =SUM(D16:L16) -> 17011100 | D16: =SUM(D17:D20) -> 13287000 | E16: =SUM(E17:E20) -> 2545000 | F16: =SUM(F17:F20) -> 655000 | G16: =SUM(G17:G20) -> 0 | H16: =SUM(H17:H20) -> 0 | I16: =SUM(I17:I20) -> 81000 | J16: =SUM(J17:J20) -> 107100 | K16: =SUM(K17:K20) -> 66000 | L16: =SUM(L17:L20) -> 270000
A17: 7 | B17: TH Hương Minh | C17: =SUM(D17:L17) -> 4265450 | D17: 3262000 | E17: 715000 | F17: 164000 | I17: 21600 | J17: 17850 | K17: 15000 | L17: 70000
A18: 8 | B18: TH Thị Trấn | C18: =SUM(D18:L18) -> 7105450 | D18: 5701000 | E18: 880000 | F18: 280000 | I18: 33750 | J18: 35700 | K18: 25000 | L18: 150000
A19: 9 | B19: TH Hương Điền | C19: =SUM(D19:L19) -> 2853050 | D19: 2223000 | E19: 480000 | F19: 103000 | I19: 16200 | J19: 17850 | K19: 13000
A20: 10 | B20: TH Hương Quang | C20: =SUM(D20:L20) -> 2787150 | D20: 2101000 | E20: 470000 | F20: 108000 | I20: 9450 | J20: 35700 | K20: 13000 | L20: 50000
B21: Khối THCS và liên cấp | C21: =SUM(D21:L21) -> 30226092 | D21: =SUM(D22:D24) -> 24034000 | E21: =SUM(E22:E24) -> 3410000 | F21: =SUM(F22:F24) -> 1255270 | G21: =SUM(G22:G24) -> 0 | H21: =SUM(H22:H24) -> 783272 | I21: =SUM(I22:I24) -> 105300 | J21: =SUM(J22:J24) -> 96250 | K21: =SUM(K22:K24) -> 84000 | L21: =SUM(L22:L24) -> 458000
A22: 11 | B22: TH&THCS Quang Thọ | C22: =SUM(D22:L22) -> 9377682 | D22: 7504000 | E22: 1080000 | F22: 392000 | G22: 0 | H22: 184232 | I22: 33750 | J22: 35700 | K22: 30000 | L22: 118000
A23: 12 | B23: TH&THCS Sơn Thọ | C23: =SUM(D23:L23) -> 9994760 | D23: 7974000 | E23: 1100000 | F23: 407270 | G23: 0 | H23: 221040 | I23: 33750 | J23: 38700 | K23: 30000 | L23: 190000
A24: 13 | B24: Phan Đình Phùng | C24: =SUM(D24:L24) -> 10853650 | D24: 8556000 | E24: 1230000 | F24: 456000 | H24: 378000 | I24: 37800 | J24: 21850 | K24: 24000 | L24: 150000
B25: Kinh phí hoạt động chung ngành, khen thưởng ngành, khác… | C25: 1840803
B26: Kinh phí hỗ trợ học phí SV | C26: 267135
B27: Kinh phí trung tâm học tập cộng đồng | C27: 28080
B28: Tổng cộng | C28: =C9+C16+C21+C25+C26+C27 -> 69165000 | D28: =D9+D16+D21+D25+D26+D27 -> 52170000 | E28: =E9+E16+E21+E25+E26+E27 -> 9219000 | F28: =F9+F16+F21+F25+F26+F27 -> 2692410 | G28: =G9+G16+G21+G25+G26+G27 -> 230000 | H28: =H9+H16+H21+H25+H26+H27 -> 1072622 | I28: =I9+I16+I21+I25+I26+I27 -> 313200 | J28: =J9+J16+J21+J25+J26+J27 -> 274750 | ... L28: =L9+L16+L21+L25+L26+L27 -> 907000
J29: ỦY BAN NHÂN DÂN XÃ
